BEGIN:VCALENDAR
VERSION:2.0
PRODID:-//LA COMPAGNIE DU LAMPARO - ECPv6.15.20//NONSGML v1.0//EN
CALSCALE:GREGORIAN
METHOD:PUBLISH
X-WR-CALNAME:LA COMPAGNIE DU LAMPARO
X-ORIGINAL-URL:https://www.compagniedulamparo.com
X-WR-CALDESC:Évènements pour LA COMPAGNIE DU LAMPARO
REFRESH-INTERVAL;VALUE=DURATION:PT1H
X-Robots-Tag:noindex
X-PUBLISHED-TTL:PT1H
BEGIN:VTIMEZONE
TZID:Europe/Paris
BEGIN:DAYLIGHT
TZOFFSETFROM:+0100
TZOFFSETTO:+0200
TZNAME:CEST
DTSTART:20250330T010000
END:DAYLIGHT
BEGIN:STANDARD
TZOFFSETFROM:+0200
TZOFFSETTO:+0100
TZNAME:CET
DTSTART:20251026T010000
END:STANDARD
BEGIN:DAYLIGHT
TZOFFSETFROM:+0100
TZOFFSETTO:+0200
TZNAME:CEST
DTSTART:20260329T010000
END:DAYLIGHT
BEGIN:STANDARD
TZOFFSETFROM:+0200
TZOFFSETTO:+0100
TZNAME:CET
DTSTART:20261025T010000
END:STANDARD
BEGIN:DAYLIGHT
TZOFFSETFROM:+0100
TZOFFSETTO:+0200
TZNAME:CEST
DTSTART:20270328T010000
END:DAYLIGHT
BEGIN:STANDARD
TZOFFSETFROM:+0200
TZOFFSETTO:+0100
TZNAME:CET
DTSTART:20271031T010000
END:STANDARD
END:VTIMEZONE
BEGIN:VEVENT
DTSTART;TZID=Europe/Paris:20260417T203000
DTEND;TZID=Europe/Paris:20260419T170000
DTSTAMP:20260421T101052
CREATED:20260414T134222Z
LAST-MODIFIED:20260414T134222Z
UID:8739-1776457800-1776618000@www.compagniedulamparo.com
SUMMARY:DUÒ LAVOÀ LAPÒ - Gênes (IT) - 17.04.26 - FEST LA VOCE E IL TEMPO
DESCRIPTION:« La Voce e il Tempo » prosegue con le sonorità occitane del duo Lavoà Lapò \nProsegue il programma del ricchissimo decennale di La Voce e il Tempo\, storica stagione musicale genovese. Voci e percussioni si intrecciano venerdì 17 aprile al Monastero di S. Chiara con le sonorità occitane rielaborate da Manu Théron e Damien Toumi per Lavoà Lapò. \nCon Lavoà Lapò (“la voce\, la pelle”)\, Damien Toumi e Mànu Théron si lanciano con energia e passione condivisa nel mondo della vocalità occitana\, per celebrarne il rinnovamento. Partendo da standard noti in tutti i Paesi d’Oc\, creano invenzioni drammatiche\, potenti o frizzanti in cui si mescolano giochi vocali e ritmici\, polifonie entusiaste e trance febbrili. I percorsi personali e la sensibilità comune hanno reso i due cantanti-percussionisti complici e complementari. \nI brani in programma provengono dal corpus dei «Canti popolari della Provenza»\, ma anche da raccolte sul campo\, scritti e invenzioni del duo. Partendo da un repertorio senza tempo\, che porta l’Occitania in ogni angolo della loro fantasia\, costruiscono l’idea che due voci e due percussioni possano dire\, suscitare e rivelare. I loro unisoni esplorano le melodie tradizionali per estrarne l’essenza e restituirla in tutta la saporita stranezza. In questo concentrato di invenzioni gioiose e di spiritualità mai elusa\, i due cantanti distillano il loro artigianato lirico-festivo che sfugge alle norme del consumo di massa e restituisce a chi lo assapora un carattere “estirador” che non solo è duro a morire\, ma permette anche di prolungare tutti i piaceri. \nGli artisti marsigliesi\, già acclamati a La Voce e il Tempo con “Lo Cor de la Plana”\, proporranno inoltre uno stage su vocalità\, repertorio\, improvvisazione e percussioni il 18 e 19 aprile. Manu Théron e Damien Toumi propongono regolarmente stages su repertorio\, uso della voce e della percussione\, poliritmia\, canto corale\, chant à danser. Quelle di Genova saranno due giornate dedicate ai canti politici e rituali nelle regioni di lingua occitana dalle 10 alle 13 e dalle 14 alle 17 alla Sala Luterana di Via Assarotti. Info e iscrizioni scrivendo a: lavoceiltempo@gmail.com.
URL:https://www.compagniedulamparo.com/evenement/duo-lavoa-lapo-genes-it-17-04-26-fest-la-voce-e-il-tempo/
LOCATION:Monastero di Santa Chiara\, 58G Via Silvio Lagustena\, Genova\, 16126\, Italy
CATEGORIES:Actions culturelles,Concert,Duò Lavoà Lapò,Stage & Master class
ATTACH;FMTTYPE=image/jpeg:https://www.compagniedulamparo.com/wp-content/uploads/2025/10/Duo-Lavoa-Lapo-Jean-de-Pena-.jpg
END:VEVENT
END:VCALENDAR